BEGIN:VCALENDAR
VERSION:2.0
PRODID:icalendar-ruby
CALSCALE:GREGORIAN
METHOD:PUBLISH
BEGIN:VEVENT
DTSTAMP:20260425T002549Z
UID:8-1356816@sidewalkcentre.ca
DTSTART:20260912T140000Z
DTEND:20260912T160000Z
CLASS:PUBLIC
CREATED:20260424T191626
DESCRIPTION:
LAST-MODIFIED:20260424T191626
LOCATION:2nd Floor Classrooms 202 & 203
SUMMARY:Wool Gatherers
URL;VALUE=URI:https://www.sidewalkcentre.ca/events/wool-gatherers/2026-09-1
 2
END:VEVENT
END:VCALENDAR
