BEGIN:VCALENDAR
VERSION:2.0
PRODID:icalendar-ruby
CALSCALE:GREGORIAN
METHOD:PUBLISH
BEGIN:VEVENT
DTSTAMP:20260424T230046Z
UID:8-1355562@sidewalkcentre.ca
DTSTART:20260905T140000Z
DTEND:20260905T160000Z
CLASS:PUBLIC
CREATED:20260424T162842
DESCRIPTION:
LAST-MODIFIED:20260424T162842
LOCATION:2nd Floor Classrooms 202 & 203
SUMMARY:Wool Gatherers
URL;VALUE=URI:https://www.sidewalkcentre.ca/events/wool-gatherers/2026-09-0
 5
END:VEVENT
END:VCALENDAR
