BEGIN:VCALENDAR
VERSION:2.0
PRODID:icalendar-ruby
CALSCALE:GREGORIAN
METHOD:PUBLISH
BEGIN:VEVENT
DTSTAMP:20260424T212004Z
UID:8-1355561@sidewalkcentre.ca
DTSTART:20260829T140000Z
DTEND:20260829T160000Z
CLASS:PUBLIC
CREATED:20260424T162842
DESCRIPTION:
LAST-MODIFIED:20260424T162842
LOCATION:2nd Floor Classrooms 202 & 203
SUMMARY:Wool Gatherers
URL;VALUE=URI:https://www.sidewalkcentre.ca/events/wool-gatherers/2026-08-2
 9
END:VEVENT
END:VCALENDAR
