BEGIN:VCALENDAR
VERSION:2.0
PRODID:icalendar-ruby
CALSCALE:GREGORIAN
METHOD:PUBLISH
BEGIN:VEVENT
DTSTAMP:20260424T181624Z
UID:8-1354306@sidewalkcentre.ca
DTSTART:20260815T140000Z
DTEND:20260815T160000Z
CLASS:PUBLIC
CREATED:20260424T134129
DESCRIPTION:
LAST-MODIFIED:20260424T134129
LOCATION:2nd Floor Classrooms 202 & 203
SUMMARY:Wool Gatherers
URL;VALUE=URI:https://www.sidewalkcentre.ca/events/wool-gatherers/2026-08-1
 5
END:VEVENT
END:VCALENDAR
