BEGIN:VCALENDAR
VERSION:2.0
PRODID:icalendar-ruby
CALSCALE:GREGORIAN
METHOD:PUBLISH
BEGIN:VEVENT
DTSTAMP:20260424T150544Z
UID:8-1353051@sidewalkcentre.ca
DTSTART:20260801T140000Z
DTEND:20260801T160000Z
CLASS:PUBLIC
CREATED:20260424T105420
DESCRIPTION:
LAST-MODIFIED:20260424T105420
LOCATION:2nd Floor Classrooms 202 & 203
SUMMARY:Wool Gatherers
URL;VALUE=URI:https://www.sidewalkcentre.ca/events/wool-gatherers/2026-08-0
 1
END:VEVENT
END:VCALENDAR
