BEGIN:VCALENDAR
VERSION:2.0
PRODID:icalendar-ruby
CALSCALE:GREGORIAN
METHOD:PUBLISH
BEGIN:VEVENT
DTSTAMP:20260424T132655Z
UID:8-1351797@sidewalkcentre.ca
DTSTART:20260725T140000Z
DTEND:20260725T160000Z
CLASS:PUBLIC
CREATED:20260424T080111
DESCRIPTION:
LAST-MODIFIED:20260424T080111
LOCATION:2nd Floor Classrooms 202 & 203
SUMMARY:Wool Gatherers
URL;VALUE=URI:https://www.sidewalkcentre.ca/events/wool-gatherers/2026-07-2
 5
END:VEVENT
END:VCALENDAR
