BEGIN:VCALENDAR
VERSION:2.0
PRODID:icalendar-ruby
CALSCALE:GREGORIAN
METHOD:PUBLISH
BEGIN:VEVENT
DTSTAMP:20260424T083259Z
UID:8-1350541@sidewalkcentre.ca
DTSTART:20260704T140000Z
DTEND:20260704T160000Z
CLASS:PUBLIC
CREATED:20260423T223246
DESCRIPTION:
LAST-MODIFIED:20260423T223246
LOCATION:2nd Floor Classrooms 202 & 203
SUMMARY:Wool Gatherers
URL;VALUE=URI:https://www.sidewalkcentre.ca/events/wool-gatherers/2026-07-0
 4
END:VEVENT
END:VCALENDAR
