BEGIN:VCALENDAR
VERSION:2.0
PRODID:icalendar-ruby
CALSCALE:GREGORIAN
METHOD:PUBLISH
BEGIN:VEVENT
DTSTAMP:20260425T105302Z
UID:42-1358694@sidewalkcentre.ca
DTSTART:20261027T160000Z
DTEND:20261027T190000Z
CLASS:PUBLIC
CREATED:20260424T220534
DESCRIPTION:Every Tuesday\, from noon to 3 pm the gym is open for picklebal
 l to all parishioners. There is a sign up sheet in the narthex to book you
 r court time. \nCome out\, get some exercise and have fun together!! 
LAST-MODIFIED:20260424T220534
LOCATION:Gym
SUMMARY:Parish PickleBall
URL;VALUE=URI:https://www.sidewalkcentre.ca/events/parish-pickleball/2026-1
 0-27
ATTACH;FILENAME=P_3998.jpg;FMTTYPE=image/jpeg:https://dq5pwpg1q8ru0.cloudfr
 ont.net/2024/09/10/13/15/23/8d659033-1a82-4576-b4e7-1f99f0492721/P_3998.jp
 g
END:VEVENT
END:VCALENDAR
