BEGIN:VCALENDAR
VERSION:2.0
PRODID:icalendar-ruby
CALSCALE:GREGORIAN
METHOD:PUBLISH
BEGIN:VEVENT
DTSTAMP:20260423T212259Z
UID:41-1348533@sidewalkcentre.ca
DTSTART:20260513T223000Z
DTEND:20260513T233000Z
CLASS:PUBLIC
CREATED:20260423T164501
DESCRIPTION:Physical Fitness\, Concentration\, Self Control\, Self Defence\
 , Stress Reduction\, Builds Confidence. Just a few of the positive benefit
 s from Taekwondo. \n\nClasses: Monday and Wednesday 6:30- 7:30 pm\nFor mo
 re information or to register please contact masterjaywilliams@gmail.com o
 r 519-954-4867
LAST-MODIFIED:20260423T164501
LOCATION:Gym
SUMMARY:Jay William TaeKwonDo
URL;VALUE=URI:https://www.sidewalkcentre.ca/events/jay-william-taekwondo--4
 1/2026-05-13
END:VEVENT
END:VCALENDAR
