BEGIN:VCALENDAR
VERSION:2.0
PRODID:icalendar-ruby
CALSCALE:GREGORIAN
METHOD:PUBLISH
BEGIN:VEVENT
DTSTAMP:20260425T110846Z
UID:6-1357930@sidewalkcentre.ca
DTSTART:20261028T183000Z
DTEND:20261028T193000Z
CLASS:PUBLIC
CREATED:20260424T220532
DESCRIPTION:As part of the Region of Waterloo Foodbanks Community Food Assi
 stance Network\, SideWalk is a distribution point for those in need of an 
 emergency food hamper. \nHampers are distributed by drop in.  
LAST-MODIFIED:20260424T220532
LOCATION:
SUMMARY:Food Distribution
URL;VALUE=URI:https://www.sidewalkcentre.ca/events/food-distribution/2026-1
 0-28
END:VEVENT
END:VCALENDAR
