BEGIN:VCALENDAR
VERSION:2.0
PRODID:icalendar-ruby
CALSCALE:GREGORIAN
METHOD:PUBLISH
BEGIN:VEVENT
DTSTAMP:20260425T011001Z
UID:6-1356671@sidewalkcentre.ca
DTSTART:20260916T183000Z
DTEND:20260916T193000Z
CLASS:PUBLIC
CREATED:20260424T191626
DESCRIPTION:As part of the Region of Waterloo Foodbanks Community Food Assi
 stance Network\, SideWalk is a distribution point for those in need of an 
 emergency food hamper. \nHampers are distributed by drop in.  
LAST-MODIFIED:20260424T191626
LOCATION:
SUMMARY:Food Distribution
URL;VALUE=URI:https://www.sidewalkcentre.ca/events/food-distribution/2026-0
 9-16
END:VEVENT
END:VCALENDAR
