BEGIN:VCALENDAR
VERSION:2.0
PRODID:icalendar-ruby
CALSCALE:GREGORIAN
METHOD:PUBLISH
BEGIN:VEVENT
DTSTAMP:20260424T203819Z
UID:6-1355415@sidewalkcentre.ca
DTSTART:20260826T183000Z
DTEND:20260826T193000Z
CLASS:PUBLIC
CREATED:20260424T162842
DESCRIPTION:As part of the Region of Waterloo Foodbanks Community Food Assi
 stance Network\, SideWalk is a distribution point for those in need of an 
 emergency food hamper. \nHampers are distributed by drop in.  
LAST-MODIFIED:20260424T162842
LOCATION:
SUMMARY:Food Distribution
URL;VALUE=URI:https://www.sidewalkcentre.ca/events/food-distribution/2026-0
 8-26
END:VEVENT
END:VCALENDAR
