BEGIN:VCALENDAR
VERSION:2.0
PRODID:icalendar-ruby
CALSCALE:GREGORIAN
METHOD:PUBLISH
BEGIN:VEVENT
DTSTAMP:20260426T040601Z
UID:17-1365737@sidewalkcentre.ca
DTSTART:20261026T130000Z
DTEND:20261026T220000Z
CLASS:PUBLIC
CREATED:20260425T211820
DESCRIPTION:Ann Dyduch is a registered phychotherapist. To make an appointm
 ent\, please call 226-455-5093 or email at ann@dyduchtherapy.com
LAST-MODIFIED:20260425T211820
LOCATION:Room 208
SUMMARY:Ann Dyduch Psychotherapy
URL;VALUE=URI:https://www.sidewalkcentre.ca/events/ann-dyduch-psychotherapy
 /2026-10-26
END:VEVENT
END:VCALENDAR
