BEGIN:VCALENDAR
VERSION:2.0
PRODID:icalendar-ruby
CALSCALE:GREGORIAN
METHOD:PUBLISH
BEGIN:VEVENT
DTSTAMP:20260425T010811Z
UID:17-1356945@sidewalkcentre.ca
DTSTART:20260629T130000Z
DTEND:20260629T220000Z
CLASS:PUBLIC
CREATED:20260424T191626
DESCRIPTION:Ann Dyduch is a registered phychotherapist. To make an appointm
 ent\, please call 226-455-5093 or email at ann@dyduchtherapy.com
LAST-MODIFIED:20260424T191626
LOCATION:Room 208
SUMMARY:Ann Dyduch Psychotherapy
URL;VALUE=URI:https://www.sidewalkcentre.ca/events/ann-dyduch-psychotherapy
 /2026-06-29
END:VEVENT
END:VCALENDAR
