BEGIN:VCALENDAR
VERSION:2.0
PRODID:icalendar-ruby
CALSCALE:GREGORIAN
METHOD:PUBLISH
BEGIN:VEVENT
DTSTAMP:20260426T011128Z
UID:18-1364624@sidewalkcentre.ca
DTSTART:20261104T140000Z
DTEND:20261104T230000Z
CLASS:PUBLIC
CREATED:20260425T183602
DESCRIPTION:Ann Dyduch is a registered psychotherapist. To make an appointm
 ent\, please call 226-455-5093 or email at ann@dyduchtherapy.com\n 
LAST-MODIFIED:20260425T183602
LOCATION:Room 208
SUMMARY:Ann Dyduch Psychotherapy
URL;VALUE=URI:https://www.sidewalkcentre.ca/events/ann-dyduch-psychotherapy
 --18/2026-11-04
END:VEVENT
END:VCALENDAR
