BEGIN:VCALENDAR
VERSION:2.0
PRODID:icalendar-ruby
CALSCALE:GREGORIAN
METHOD:PUBLISH
BEGIN:VEVENT
DTSTAMP:20260425T112430Z
UID:18-1358347@sidewalkcentre.ca
DTSTART:20260902T130000Z
DTEND:20260902T220000Z
CLASS:PUBLIC
CREATED:20260424T220533
DESCRIPTION:Ann Dyduch is a registered psychotherapist. To make an appointm
 ent\, please call 226-455-5093 or email at ann@dyduchtherapy.com\n 
LAST-MODIFIED:20260424T220533
LOCATION:Room 208
SUMMARY:Ann Dyduch Psychotherapy
URL;VALUE=URI:https://www.sidewalkcentre.ca/events/ann-dyduch-psychotherapy
 --18/2026-09-02
END:VEVENT
END:VCALENDAR
