BEGIN:VCALENDAR
VERSION:2.0
PRODID:icalendar-ruby
CALSCALE:GREGORIAN
METHOD:PUBLISH
BEGIN:VEVENT
DTSTAMP:20260425T102951Z
UID:56-1358916@sidewalkcentre.ca
DTSTART:20261027T143000Z
DTEND:20261027T163000Z
CLASS:PUBLIC
CREATED:20260424T220534
DESCRIPTION:For more information please call the church office at 519-884-6
 600
LAST-MODIFIED:20260424T220534
LOCATION:Room 203
SUMMARY:All Saints\, Women's Bible Study
URL;VALUE=URI:https://www.sidewalkcentre.ca/events/all-saints-womens-bible-
 study/2026-10-27
END:VEVENT
END:VCALENDAR
