BEGIN:VCALENDAR
VERSION:2.0
PRODID:icalendar-ruby
CALSCALE:GREGORIAN
METHOD:PUBLISH
BEGIN:VEVENT
DTSTAMP:20260424T132505Z
UID:56-1352638@sidewalkcentre.ca
DTSTART:20260728T143000Z
DTEND:20260728T163000Z
CLASS:PUBLIC
CREATED:20260424T080113
DESCRIPTION:For more information please call the church office at 519-884-6
 600
LAST-MODIFIED:20260424T080113
LOCATION:Room 203
SUMMARY:All Saints\, Women's Bible Study
URL;VALUE=URI:https://www.sidewalkcentre.ca/events/all-saints-womens-bible-
 study/2026-07-28
END:VEVENT
END:VCALENDAR
