BEGIN:VCALENDAR
VERSION:2.0
PRODID:icalendar-ruby
CALSCALE:GREGORIAN
METHOD:PUBLISH
BEGIN:VEVENT
DTSTAMP:20260423T211553Z
UID:56-1348869@sidewalkcentre.ca
DTSTART:20260519T143000Z
DTEND:20260519T163000Z
CLASS:PUBLIC
CREATED:20260423T164502
DESCRIPTION:For more information please call the church office at 519-884-6
 600
LAST-MODIFIED:20260423T164502
LOCATION:Room 203
SUMMARY:All Saints\, Women's Bible Study
URL;VALUE=URI:https://www.sidewalkcentre.ca/events/all-saints-womens-bible-
 study/2026-05-19
END:VEVENT
END:VCALENDAR
