BEGIN:VCALENDAR
VERSION:2.0
PRODID:icalendar-ruby
CALSCALE:GREGORIAN
METHOD:PUBLISH
BEGIN:VEVENT
DTSTAMP:20260425T105633Z
UID:57-1359025@sidewalkcentre.ca
DTSTART:20261028T150000Z
DTEND:20261028T160000Z
CLASS:PUBLIC
CREATED:20260424T220534
DESCRIPTION:For more information please see allsaintswaterloo.ca or call th
 e office at 519-884-6600
LAST-MODIFIED:20260424T220534
LOCATION:Board Room (room 122)
SUMMARY:All Saints'\, Bible Study with Pastor Marty
URL;VALUE=URI:https://www.sidewalkcentre.ca/events/all-saints-bible-study-w
 ith-pastor-marty/2026-10-28
END:VEVENT
END:VCALENDAR
