BEGIN:VCALENDAR
VERSION:2.0
PRODID:icalendar-ruby
CALSCALE:GREGORIAN
METHOD:PUBLISH
BEGIN:VEVENT
DTSTAMP:20260424T122611Z
UID:57-1352746@sidewalkcentre.ca
DTSTART:20260722T150000Z
DTEND:20260722T160000Z
CLASS:PUBLIC
CREATED:20260424T080113
DESCRIPTION:For more information please see allsaintswaterloo.ca or call th
 e office at 519-884-6600
LAST-MODIFIED:20260424T080113
LOCATION:Board Room (room 122)
SUMMARY:All Saints'\, Bible Study with Pastor Marty
URL;VALUE=URI:https://www.sidewalkcentre.ca/events/all-saints-bible-study-w
 ith-pastor-marty/2026-07-22
END:VEVENT
END:VCALENDAR
