BEGIN:VCALENDAR
VERSION:2.0
PRODID:icalendar-ruby
CALSCALE:GREGORIAN
METHOD:PUBLISH
BEGIN:VEVENT
DTSTAMP:20260424T073808Z
UID:57-1351490@sidewalkcentre.ca
DTSTART:20260701T150000Z
DTEND:20260701T160000Z
CLASS:PUBLIC
CREATED:20260423T223248
DESCRIPTION:For more information please see allsaintswaterloo.ca or call th
 e office at 519-884-6600
LAST-MODIFIED:20260423T223248
LOCATION:Board Room (room 122)
SUMMARY:All Saints'\, Bible Study with Pastor Marty
URL;VALUE=URI:https://www.sidewalkcentre.ca/events/all-saints-bible-study-w
 ith-pastor-marty/2026-07-01
END:VEVENT
END:VCALENDAR
