BEGIN:VCALENDAR
VERSION:2.0
PRODID:icalendar-ruby
CALSCALE:GREGORIAN
METHOD:PUBLISH
BEGIN:VEVENT
DTSTAMP:20260424T001305Z
UID:57-1350232@sidewalkcentre.ca
DTSTART:20260527T150000Z
DTEND:20260527T160000Z
CLASS:PUBLIC
CREATED:20260423T193845
DESCRIPTION:For more information please see allsaintswaterloo.ca or call th
 e office at 519-884-6600
LAST-MODIFIED:20260423T193845
LOCATION:Board Room (room 122)
SUMMARY:All Saints'\, Bible Study with Pastor Marty
URL;VALUE=URI:https://www.sidewalkcentre.ca/events/all-saints-bible-study-w
 ith-pastor-marty/2026-05-27
END:VEVENT
END:VCALENDAR
