BEGIN:VCALENDAR
VERSION:2.0
PRODID:icalendar-ruby
CALSCALE:GREGORIAN
METHOD:PUBLISH
BEGIN:VEVENT
DTSTAMP:20260425T125006Z
UID:43-1360061@sidewalkcentre.ca
DTSTART:20261103T230000Z
DTEND:20261104T010000Z
CLASS:PUBLIC
CREATED:20260425T075109
DESCRIPTION:
LAST-MODIFIED:20260425T075109
LOCATION:Gym
SUMMARY:1st Waterloo Beavers (Scouts Canada)
URL;VALUE=URI:https://www.sidewalkcentre.ca/events/1st-waterloo-beavers-sco
 uts-canada/2026-11-03
END:VEVENT
END:VCALENDAR
