BEGIN:VCALENDAR
VERSION:2.0
PRODID:icalendar-ruby
CALSCALE:GREGORIAN
METHOD:PUBLISH
BEGIN:VEVENT
DTSTAMP:20260425T105139Z
UID:43-1358807@sidewalkcentre.ca
DTSTART:20261027T220000Z
DTEND:20261028T000000Z
CLASS:PUBLIC
CREATED:20260424T220534
DESCRIPTION:
LAST-MODIFIED:20260424T220534
LOCATION:Gym
SUMMARY:1st Waterloo Beavers (Scouts Canada)
URL;VALUE=URI:https://www.sidewalkcentre.ca/events/1st-waterloo-beavers-sco
 uts-canada/2026-10-27
END:VEVENT
END:VCALENDAR
