BEGIN:VCALENDAR
VERSION:2.0
PRODID:icalendar-ruby
CALSCALE:GREGORIAN
METHOD:PUBLISH
BEGIN:VEVENT
DTSTAMP:20260425T011801Z
UID:43-1357548@sidewalkcentre.ca
DTSTART:20260915T220000Z
DTEND:20260916T000000Z
CLASS:PUBLIC
CREATED:20260424T191627
DESCRIPTION:
LAST-MODIFIED:20260424T191627
LOCATION:Gym
SUMMARY:1st Waterloo Beavers (Scouts Canada)
URL;VALUE=URI:https://www.sidewalkcentre.ca/events/1st-waterloo-beavers-sco
 uts-canada/2026-09-15
END:VEVENT
END:VCALENDAR
