BEGIN:VCALENDAR
VERSION:2.0
PRODID:icalendar-ruby
CALSCALE:GREGORIAN
METHOD:PUBLISH
BEGIN:VEVENT
DTSTAMP:20260424T222337Z
UID:43-1356293@sidewalkcentre.ca
DTSTART:20260901T220000Z
DTEND:20260902T000000Z
CLASS:PUBLIC
CREATED:20260424T162844
DESCRIPTION:
LAST-MODIFIED:20260424T162844
LOCATION:Gym
SUMMARY:1st Waterloo Beavers (Scouts Canada)
URL;VALUE=URI:https://www.sidewalkcentre.ca/events/1st-waterloo-beavers-sco
 uts-canada/2026-09-01
END:VEVENT
END:VCALENDAR
