BEGIN:VCALENDAR
VERSION:2.0
PRODID:icalendar-ruby
CALSCALE:GREGORIAN
METHOD:PUBLISH
BEGIN:VEVENT
DTSTAMP:20260424T191319Z
UID:43-1355038@sidewalkcentre.ca
DTSTART:20260818T220000Z
DTEND:20260819T000000Z
CLASS:PUBLIC
CREATED:20260424T134131
DESCRIPTION:
LAST-MODIFIED:20260424T134131
LOCATION:Gym
SUMMARY:1st Waterloo Beavers (Scouts Canada)
URL;VALUE=URI:https://www.sidewalkcentre.ca/events/1st-waterloo-beavers-sco
 uts-canada/2026-08-18
END:VEVENT
END:VCALENDAR
