BEGIN:VCALENDAR
VERSION:2.0
PRODID:icalendar-ruby
CALSCALE:GREGORIAN
METHOD:PUBLISH
BEGIN:VEVENT
DTSTAMP:20260424T173013Z
UID:43-1353784@sidewalkcentre.ca
DTSTART:20260811T220000Z
DTEND:20260812T000000Z
CLASS:PUBLIC
CREATED:20260424T105421
DESCRIPTION:
LAST-MODIFIED:20260424T105421
LOCATION:Gym
SUMMARY:1st Waterloo Beavers (Scouts Canada)
URL;VALUE=URI:https://www.sidewalkcentre.ca/events/1st-waterloo-beavers-sco
 uts-canada/2026-08-11
END:VEVENT
END:VCALENDAR
