BEGIN:VCALENDAR
VERSION:2.0
PRODID:icalendar-ruby
CALSCALE:GREGORIAN
METHOD:PUBLISH
BEGIN:VEVENT
DTSTAMP:20260424T161050Z
UID:43-1353783@sidewalkcentre.ca
DTSTART:20260804T220000Z
DTEND:20260805T000000Z
CLASS:PUBLIC
CREATED:20260424T105421
DESCRIPTION:
LAST-MODIFIED:20260424T105421
LOCATION:Gym
SUMMARY:1st Waterloo Beavers (Scouts Canada)
URL;VALUE=URI:https://www.sidewalkcentre.ca/events/1st-waterloo-beavers-sco
 uts-canada/2026-08-04
END:VEVENT
END:VCALENDAR
