BEGIN:VCALENDAR
VERSION:2.0
PRODID:icalendar-ruby
CALSCALE:GREGORIAN
METHOD:PUBLISH
BEGIN:VEVENT
DTSTAMP:20260424T142656Z
UID:43-1352529@sidewalkcentre.ca
DTSTART:20260728T220000Z
DTEND:20260729T000000Z
CLASS:PUBLIC
CREATED:20260424T080113
DESCRIPTION:
LAST-MODIFIED:20260424T080113
LOCATION:Gym
SUMMARY:1st Waterloo Beavers (Scouts Canada)
URL;VALUE=URI:https://www.sidewalkcentre.ca/events/1st-waterloo-beavers-sco
 uts-canada/2026-07-28
END:VEVENT
END:VCALENDAR
