BEGIN:VCALENDAR
VERSION:2.0
PRODID:icalendar-ruby
CALSCALE:GREGORIAN
METHOD:PUBLISH
BEGIN:VEVENT
DTSTAMP:20260424T063604Z
UID:43-1351271@sidewalkcentre.ca
DTSTART:20260623T220000Z
DTEND:20260624T000000Z
CLASS:PUBLIC
CREATED:20260423T223248
DESCRIPTION:
LAST-MODIFIED:20260423T223248
LOCATION:Gym
SUMMARY:1st Waterloo Beavers (Scouts Canada)
URL;VALUE=URI:https://www.sidewalkcentre.ca/events/1st-waterloo-beavers-sco
 uts-canada/2026-06-23
END:VEVENT
END:VCALENDAR
