BEGIN:VCALENDAR
VERSION:2.0
PRODID:icalendar-ruby
CALSCALE:GREGORIAN
METHOD:PUBLISH
BEGIN:VEVENT
DTSTAMP:20260424T002910Z
UID:43-1350014@sidewalkcentre.ca
DTSTART:20260526T220000Z
DTEND:20260527T000000Z
CLASS:PUBLIC
CREATED:20260423T193845
DESCRIPTION:
LAST-MODIFIED:20260423T193845
LOCATION:Gym
SUMMARY:1st Waterloo Beavers (Scouts Canada)
URL;VALUE=URI:https://www.sidewalkcentre.ca/events/1st-waterloo-beavers-sco
 uts-canada/2026-05-26
END:VEVENT
END:VCALENDAR
