BEGIN:VCALENDAR
VERSION:2.0
PRODID:icalendar-ruby
CALSCALE:GREGORIAN
METHOD:PUBLISH
BEGIN:VEVENT
DTSTAMP:20260423T211634Z
UID:43-1348759@sidewalkcentre.ca
DTSTART:20260512T220000Z
DTEND:20260513T000000Z
CLASS:PUBLIC
CREATED:20260423T164502
DESCRIPTION:
LAST-MODIFIED:20260423T164502
LOCATION:Gym
SUMMARY:1st Waterloo Beavers (Scouts Canada)
URL;VALUE=URI:https://www.sidewalkcentre.ca/events/1st-waterloo-beavers-sco
 uts-canada/2026-05-12
END:VEVENT
END:VCALENDAR
